<PAMDataset>
  <SRS>PROJCS[&quot;South_Pole_Stereographic&quot;,GEOGCS[&quot;GCS_WGS_1984&quot;,DATUM[&quot;WGS_1984&quot;,SPHEROID[&quot;WGS_1984&quot;,6378137.0,298.257223563]],PRIMEM[&quot;Greenwich&quot;,0.0],UNIT[&quot;Degree&quot;,0.0174532925199433]],PROJECTION[&quot;Stereographic&quot;],PARAMETER[&quot;False_Easting&quot;,0.0],PARAMETER[&quot;False_Northing&quot;,0.0],PARAMETER[&quot;Central_Meridian&quot;,0.0],PARAMETER[&quot;Scale_Factor&quot;,1.0],PARAMETER[&quot;Latitude_Of_Origin&quot;,-90.0],UNIT[&quot;Meter&quot;,1.0]]</SRS>
  <GeoTransform>-4.0807410765273259e+006, 1.0347951512214149e+003, 3.5066893112852832e-001, 4.4937086848401250e+006, 6.4268643519969038e-001,-1.0353732452607824e+003</GeoTransform>
  <Metadata domain="ESRI">
    <MDI key="PyramidResamplingType">NEAREST</MDI>
  </Metadata>
  <PAMRasterBand band="1">
    <Metadata domain="IMAGE_STRUCTURE">
      <MDI key="COMPRESSION">JPEG</MDI>
    </Metadata>
  </PAMRasterBand>
</PAMDataset>
