<PAMDataset>
  <SRS>PROJCS[&quot;South_Pole_Stereographic&quot;,GEOGCS[&quot;GCS_WGS_1984&quot;,DATUM[&quot;WGS_1984&quot;,SPHEROID[&quot;WGS_1984&quot;,6378137.0,298.257223563]],PRIMEM[&quot;Greenwich&quot;,0.0],UNIT[&quot;Degree&quot;,0.0174532925199433]],PROJECTION[&quot;Stereographic&quot;],PARAMETER[&quot;False_Easting&quot;,0.0],PARAMETER[&quot;False_Northing&quot;,0.0],PARAMETER[&quot;Central_Meridian&quot;,0.0],PARAMETER[&quot;Scale_Factor&quot;,1.0],PARAMETER[&quot;Latitude_Of_Origin&quot;,-90.0],UNIT[&quot;Meter&quot;,1.0]]</SRS>
  <GeoTransform>-4.0803458877299842e+006, 2.5864415763647025e+003, 1.1494749316900292e+000, 4.4955307002234068e+006, 3.5441295852634882e+000,-2.5932962273821799e+003</GeoTransform>
  <Metadata domain="ESRI">
    <MDI key="PyramidResamplingType">NEAREST</MDI>
  </Metadata>
  <PAMRasterBand band="1">
    <Metadata>
      <MDI key="GIF_BACKGROUND">0</MDI>
    </Metadata>
  </PAMRasterBand>
</PAMDataset>
